BEGIN:VCALENDAR
VERSION:2.0
PRODID:-//WehrenDorfTreff e.V. - ECPv6.15.20//NONSGML v1.0//EN
CALSCALE:GREGORIAN
METHOD:PUBLISH
X-ORIGINAL-URL:https://wehrendorftreff.de
X-WR-CALDESC:Veranstaltungen für WehrenDorfTreff e.V.
REFRESH-INTERVAL;VALUE=DURATION:PT1H
X-Robots-Tag:noindex
X-PUBLISHED-TTL:PT1H
BEGIN:VTIMEZONE
TZID:Europe/Berlin
BEGIN:DAYLIGHT
TZOFFSETFROM:+0100
TZOFFSETTO:+0200
TZNAME:CEST
DTSTART:20250330T010000
END:DAYLIGHT
BEGIN:STANDARD
TZOFFSETFROM:+0200
TZOFFSETTO:+0100
TZNAME:CET
DTSTART:20251026T010000
END:STANDARD
BEGIN:DAYLIGHT
TZOFFSETFROM:+0100
TZOFFSETTO:+0200
TZNAME:CEST
DTSTART:20260329T010000
END:DAYLIGHT
BEGIN:STANDARD
TZOFFSETFROM:+0200
TZOFFSETTO:+0100
TZNAME:CET
DTSTART:20261025T010000
END:STANDARD
BEGIN:DAYLIGHT
TZOFFSETFROM:+0100
TZOFFSETTO:+0200
TZNAME:CEST
DTSTART:20270328T010000
END:DAYLIGHT
BEGIN:STANDARD
TZOFFSETFROM:+0200
TZOFFSETTO:+0100
TZNAME:CET
DTSTART:20271031T010000
END:STANDARD
END:VTIMEZONE
BEGIN:VEVENT
DTSTART;TZID=Europe/Berlin:20261127T190000
DTEND;TZID=Europe/Berlin:20261127T210000
DTSTAMP:20260424T020045
CREATED:20260303T151457Z
LAST-MODIFIED:20260303T152155Z
UID:3373-1795806000-1795813200@wehrendorftreff.de
SUMMARY:Maria und die Verkündigung der Geburt
DESCRIPTION:Adventliches Konzert mit Lara Venghaus (Soparan) begleitet von Serhii Arzumanov (Violine) und Michael Hoyer (Klavier). \nIm Zentrum des gemütvollen Programms soll die Figur der Maria stehen\, deren Empfang der Verkündigung durch den Erzengel den Beginn der Weihnachtsgeschichte markiert\, weshalb natürlich das berühmte „Ave Maria“ von Johann Sebastian Bach und Charles Gounod nicht fehlen darf. Insbesondere in der deutschen Frühromantik ist Maria aber auch von protestantischer Seite einige Aufmerksamkeit zuteil geworden\, was sich beispielsweise in Gedichten von Novalis widerspiegelt\, die Vertonungen von Franz Schubert zu Grunde liegen. \nLara Venghaus fügt hinzu: „Anknüpfend an die französische Romantik möchten wir das Programm mit dem „Benedictus“ aus dem „Oratorio de Noël“ von Camille Saint-Saëns im Duett ergänzen\, welches von zwei unserer Gesangsschüler\, Hannah Klimeck\, Sopran\, und Hanno Lechtermann\, Bariton\, dargeboten werden soll. Für die festliche Weihnachtsstimmung trägt Adolphe Adams „Cantique de Noël“ Sorge\, welches das rund einstündige Programm beschließen wird.“
URL:https://wehrendorftreff.de/event/maria-und-die-verkuendigung-der-geburt/
LOCATION:Kreuzkirche Wehrendorf\, Dorfstraße\, Vlotho\, 32602
END:VEVENT
BEGIN:VEVENT
DTSTART;TZID=Europe/Berlin:20261129T110000
DTEND;TZID=Europe/Berlin:20261129T130000
DTSTAMP:20260424T020045
CREATED:20260303T151641Z
LAST-MODIFIED:20260303T151641Z
UID:3375-1795950000-1795957200@wehrendorftreff.de
SUMMARY:Adventsbrunch
DESCRIPTION:Schon ein Klassiker in Wehrendorf zum Beginn der Adventszeit.
URL:https://wehrendorftreff.de/event/adventsbrunch/
LOCATION:Kreuzkirche Wehrendorf\, Dorfstraße\, Vlotho\, 32602
END:VEVENT
END:VCALENDAR