BEGIN:VCALENDAR
VERSION:2.0
PRODID:-//WehrenDorfTreff e.V. - ECPv6.15.20//NONSGML v1.0//EN
CALSCALE:GREGORIAN
METHOD:PUBLISH
X-ORIGINAL-URL:https://wehrendorftreff.de
X-WR-CALDESC:Veranstaltungen für WehrenDorfTreff e.V.
REFRESH-INTERVAL;VALUE=DURATION:PT1H
X-Robots-Tag:noindex
X-PUBLISHED-TTL:PT1H
BEGIN:VTIMEZONE
TZID:Europe/Berlin
BEGIN:DAYLIGHT
TZOFFSETFROM:+0100
TZOFFSETTO:+0200
TZNAME:CEST
DTSTART:20250330T010000
END:DAYLIGHT
BEGIN:STANDARD
TZOFFSETFROM:+0200
TZOFFSETTO:+0100
TZNAME:CET
DTSTART:20251026T010000
END:STANDARD
BEGIN:DAYLIGHT
TZOFFSETFROM:+0100
TZOFFSETTO:+0200
TZNAME:CEST
DTSTART:20260329T010000
END:DAYLIGHT
BEGIN:STANDARD
TZOFFSETFROM:+0200
TZOFFSETTO:+0100
TZNAME:CET
DTSTART:20261025T010000
END:STANDARD
BEGIN:DAYLIGHT
TZOFFSETFROM:+0100
TZOFFSETTO:+0200
TZNAME:CEST
DTSTART:20270328T010000
END:DAYLIGHT
BEGIN:STANDARD
TZOFFSETFROM:+0200
TZOFFSETTO:+0100
TZNAME:CET
DTSTART:20271031T010000
END:STANDARD
END:VTIMEZONE
BEGIN:VEVENT
DTSTART;TZID=Europe/Berlin:20260509T190000
DTEND;TZID=Europe/Berlin:20260509T213000
DTSTAMP:20260423T170402
CREATED:20260201T104310Z
LAST-MODIFIED:20260201T110130Z
UID:3337-1778353200-1778362200@wehrendorftreff.de
SUMMARY:Singer/Songreiter Joe Bennick: Bennick trifft Bartning - Raum trifft Musik
DESCRIPTION:Joe Bennick widmet sich in diesem generationsübergreifenden Programm der Biografie seines Urgroßvaters\, dem bekannten Baumeister Otto Bartning (1883-1959). In einer Balance aus Wort und Musik gibt Joe Bennick als Urenkel des berühmten Architekten Einblicke in den Menschen Bartning\, in sein Schaffen\, in sein Bestreben und in den besonderen Raum des Notkirchenprogramms. Er lädt das Publikum zu einem gedanklichen Rundgang durch ihre Kirche ein\, der verschiedene architektonische Stationen beleuchtet\, der persönliche Anekdoten aufleben lässt\, der das Werk Otto Bartnings in einem großen Kontext beleuchtet. Mit feinem Gespür ergänzen die durch die Notkirche und den Urgroßvater inspirierte Songs des Singer-Songwriters dieses Programm. Die Zuhörer erleben dadurch diesen besonderen Raum der Notkirche\, mit dem sie meist innig verbunden sind\, neu. \nDas Notkirchenprogramm des Architekten Otto Bartning (1883-1959) nimmt einen besonderen Platz in der Geschichte des Kirchenbaus ein. 43 Notkirchen wurden nach dem 2. Weltkrieg innerhalb weniger Jahre in beiden Teilen Deutschlands gebaut. Jede einzelne zeugt von Bewältigung der Vergangenheit\, ebenso wie vom Aufbruch in die Moderne. Errichtet mit internationaler Solidarität und durch selbstorganisierte Eigenleistung hat der Architekt \nOtto Bartning ein Stück Zeitgeschichte erschaffen\, dessen Werte heute genauso aktuell und lebendig sind\, wie zur Grundsteinlegung. In den heute noch vorhandenen Notkirchen in ganz Deutschland möchte Bennick ein besonderes Denkmal in musikalischer Form setzen und in den Bauwerken aufführen.
URL:https://wehrendorftreff.de/event/singer-songreiter-joe-bennick-bennick-trifft-bartning-raum-trifft-musik/
LOCATION:Kreuzkirche Wehrendorf\, Dorfstraße\, Vlotho\, 32602
END:VEVENT
BEGIN:VEVENT
DTSTART;TZID=Europe/Berlin:20260514T110000
DTEND;TZID=Europe/Berlin:20260514T130000
DTSTAMP:20260423T170402
CREATED:20260224T065449Z
LAST-MODIFIED:20260224T065449Z
UID:3368-1778756400-1778763600@wehrendorftreff.de
SUMMARY:Open Air Gottesdienst und Aktionen für Kinder
DESCRIPTION:Die Evangelische Kirchengemeinde Vlotho veranstaltet am Himmelfahrtstag einen Gottesdienst auf dem Gelände rund um die Kreuzkirche für Groß und Klein.
URL:https://wehrendorftreff.de/event/open-air-gottesdienst-und-aktionen-fuer-kinder/
LOCATION:Kreuzkirche Wehrendorf\, Dorfstraße\, Vlotho\, 32602
END:VEVENT
BEGIN:VEVENT
DTSTART;TZID=Europe/Berlin:20260517T103000
DTEND;TZID=Europe/Berlin:20260517T120000
DTSTAMP:20260423T170402
CREATED:20260401T145818Z
LAST-MODIFIED:20260401T145818Z
UID:3384-1779013800-1779019200@wehrendorftreff.de
SUMMARY:EC Gottesdienst mit dem DIGUNA Afrika Team
DESCRIPTION:
URL:https://wehrendorftreff.de/event/ec-gottesdienst-mit-dem-diguna-afrika-team/
LOCATION:Kreuzkirche Wehrendorf\, Dorfstraße\, Vlotho\, 32602
END:VEVENT
END:VCALENDAR