BEGIN:VCALENDAR
VERSION:2.0
PRODID:-//WehrenDorfTreff e.V. - ECPv6.15.20//NONSGML v1.0//EN
CALSCALE:GREGORIAN
METHOD:PUBLISH
X-WR-CALNAME:WehrenDorfTreff e.V.
X-ORIGINAL-URL:https://wehrendorftreff.de
X-WR-CALDESC:Veranstaltungen für WehrenDorfTreff e.V.
REFRESH-INTERVAL;VALUE=DURATION:PT1H
X-Robots-Tag:noindex
X-PUBLISHED-TTL:PT1H
BEGIN:VTIMEZONE
TZID:Europe/Berlin
BEGIN:DAYLIGHT
TZOFFSETFROM:+0100
TZOFFSETTO:+0200
TZNAME:CEST
DTSTART:20240331T010000
END:DAYLIGHT
BEGIN:STANDARD
TZOFFSETFROM:+0200
TZOFFSETTO:+0100
TZNAME:CET
DTSTART:20241027T010000
END:STANDARD
BEGIN:DAYLIGHT
TZOFFSETFROM:+0100
TZOFFSETTO:+0200
TZNAME:CEST
DTSTART:20250330T010000
END:DAYLIGHT
BEGIN:STANDARD
TZOFFSETFROM:+0200
TZOFFSETTO:+0100
TZNAME:CET
DTSTART:20251026T010000
END:STANDARD
BEGIN:DAYLIGHT
TZOFFSETFROM:+0100
TZOFFSETTO:+0200
TZNAME:CEST
DTSTART:20260329T010000
END:DAYLIGHT
BEGIN:STANDARD
TZOFFSETFROM:+0200
TZOFFSETTO:+0100
TZNAME:CET
DTSTART:20261025T010000
END:STANDARD
BEGIN:DAYLIGHT
TZOFFSETFROM:+0100
TZOFFSETTO:+0200
TZNAME:CEST
DTSTART:20270328T010000
END:DAYLIGHT
BEGIN:STANDARD
TZOFFSETFROM:+0200
TZOFFSETTO:+0100
TZNAME:CET
DTSTART:20271031T010000
END:STANDARD
END:VTIMEZONE
BEGIN:VEVENT
DTSTART;TZID=Europe/Berlin:20260227T180000
DTEND;TZID=Europe/Berlin:20260227T200000
DTSTAMP:20260423T124159
CREATED:20260109T111845Z
LAST-MODIFIED:20260109T114428Z
UID:3315-1772215200-1772222400@wehrendorftreff.de
SUMMARY:Vernissage: NATURlichkeit - Die Schönheit der Schöpfung und die Würde des Alterns
DESCRIPTION:Vernissage zur Ausstellung
URL:https://wehrendorftreff.de/event/naturlichkeit-die-schoenheit-der-schoepfung-und-die-wuerde-des-alterns/
LOCATION:Kreuzkirche Wehrendorf\, Dorfstraße\, Vlotho\, 32602
CATEGORIES:Ausstellung
END:VEVENT
BEGIN:VEVENT
DTSTART;VALUE=DATE:20260227
DTEND;VALUE=DATE:20260323
DTSTAMP:20260423T124159
CREATED:20260109T112552Z
LAST-MODIFIED:20260109T113832Z
UID:3322-1772150400-1774223999@wehrendorftreff.de
SUMMARY:Ausstellung: NATURlichkeit - Die Schönheit der Schöpfung und die Würde des Alterns
DESCRIPTION:Dr. Alexandra Neddermann – Oksana Svitla\nAustellung geöffnet Di\, Mi + Fr – So\, 10.00 bis 12.00 Uhr\n \n\nAnmeldung für besondere Führungen: alexandra.neddermann@email.de
URL:https://wehrendorftreff.de/event/ausstellung-naturlichkeit-die-schoenheit-der-schoepfung-und-die-wuerde-des-alterns/
LOCATION:Kreuzkirche Wehrendorf\, Dorfstraße\, Vlotho\, 32602
CATEGORIES:Ausstellung
END:VEVENT
BEGIN:VEVENT
DTSTART;TZID=Europe/Berlin:20260220T190000
DTEND;TZID=Europe/Berlin:20260220T213000
DTSTAMP:20260423T124159
CREATED:20260201T103442Z
LAST-MODIFIED:20260218T084640Z
UID:3335-1771614000-1771623000@wehrendorftreff.de
SUMMARY:Mitgliederversammlung
DESCRIPTION:Für alle aktiven und passiven Mitglieder unseres Vereins. Im Anschluss an die Tagesordnung gibt es geselliges Beisammensein mit Essen und Trinken.
URL:https://wehrendorftreff.de/event/mitgliederversammlung/
LOCATION:Kreuzkirche Wehrendorf\, Dorfstraße\, Vlotho\, 32602
END:VEVENT
BEGIN:VEVENT
DTSTART;TZID=Europe/Berlin:20251224T150000
DTEND;TZID=Europe/Berlin:20251224T160000
DTSTAMP:20260423T124159
CREATED:20251030T104045Z
LAST-MODIFIED:20251030T104045Z
UID:3227-1766588400-1766592000@wehrendorftreff.de
SUMMARY:Wehrendorfer Krippenspiel
DESCRIPTION:Familiengottesdienst
URL:https://wehrendorftreff.de/event/wehrendorfer-krippenspiel/
LOCATION:Kreuzkirche Wehrendorf\, Dorfstraße\, Vlotho\, 32602
END:VEVENT
BEGIN:VEVENT
DTSTART;TZID=Europe/Berlin:20251223T130000
DTEND;TZID=Europe/Berlin:20251223T150000
DTSTAMP:20260423T124159
CREATED:20251030T103944Z
LAST-MODIFIED:20251030T103944Z
UID:3225-1766494800-1766502000@wehrendorftreff.de
SUMMARY:Generalprobe Krippenspiel
DESCRIPTION:Anita Weckesser und Team
URL:https://wehrendorftreff.de/event/generalprobe-krippenspiel/
LOCATION:Kreuzkirche Wehrendorf\, Dorfstraße\, Vlotho\, 32602
END:VEVENT
BEGIN:VEVENT
DTSTART;TZID=Europe/Berlin:20251220T130000
DTEND;TZID=Europe/Berlin:20251220T150000
DTSTAMP:20260423T124159
CREATED:20251030T103757Z
LAST-MODIFIED:20251030T103757Z
UID:3223-1766235600-1766242800@wehrendorftreff.de
SUMMARY:Krippenspielprobe
DESCRIPTION:Anita Weckesser und Team
URL:https://wehrendorftreff.de/event/krippenspielprobe-2/
LOCATION:Kreuzkirche Wehrendorf\, Dorfstraße\, Vlotho\, 32602
END:VEVENT
BEGIN:VEVENT
DTSTART;TZID=Europe/Berlin:20251213T180000
DTEND;TZID=Europe/Berlin:20251213T200000
DTSTAMP:20260423T124159
CREATED:20251030T103503Z
LAST-MODIFIED:20251103T083745Z
UID:3221-1765648800-1765656000@wehrendorftreff.de
SUMMARY:Adventsmusik
DESCRIPTION:
URL:https://wehrendorftreff.de/event/adventsmusik/
LOCATION:Kreuzkirche Wehrendorf\, Dorfstraße\, Vlotho\, 32602
END:VEVENT
BEGIN:VEVENT
DTSTART;TZID=Europe/Berlin:20251206T130000
DTEND;TZID=Europe/Berlin:20251206T150000
DTSTAMP:20260423T124159
CREATED:20251030T103324Z
LAST-MODIFIED:20251030T111517Z
UID:3219-1765026000-1765033200@wehrendorftreff.de
SUMMARY:Krippenspielprobe
DESCRIPTION:Anita Weckesser und Team
URL:https://wehrendorftreff.de/event/krippenspielprobe/
LOCATION:Kreuzkirche Wehrendorf\, Dorfstraße\, Vlotho\, 32602
END:VEVENT
BEGIN:VEVENT
DTSTART;VALUE=DATE:20251130
DTEND;VALUE=DATE:20251201
DTSTAMP:20260423T124159
CREATED:20251030T103022Z
LAST-MODIFIED:20251030T103022Z
UID:3215-1764460800-1764547199@wehrendorftreff.de
SUMMARY:WehrenDorfBrunch
DESCRIPTION:
URL:https://wehrendorftreff.de/event/wehrendorfbrunch/
LOCATION:Kreuzkirche Wehrendorf\, Dorfstraße\, Vlotho\, 32602
END:VEVENT
BEGIN:VEVENT
DTSTART;TZID=Europe/Berlin:20251118T173000
DTEND;TZID=Europe/Berlin:20251118T190000
DTSTAMP:20260423T124159
CREATED:20251104T214233Z
LAST-MODIFIED:20251104T220130Z
UID:3271-1763487000-1763492400@wehrendorftreff.de
SUMMARY:Krippenspielprobe
DESCRIPTION:Anita Weckesser und Team
URL:https://wehrendorftreff.de/event/krippenspielprobe-3/
LOCATION:Kreuzkirche Wehrendorf\, Dorfstraße\, Vlotho\, 32602
END:VEVENT
END:VCALENDAR