BEGIN:VCALENDAR
VERSION:2.0
PRODID:-//WehrenDorfTreff e.V. - ECPv6.15.20//NONSGML v1.0//EN
CALSCALE:GREGORIAN
METHOD:PUBLISH
X-WR-CALNAME:WehrenDorfTreff e.V.
X-ORIGINAL-URL:https://wehrendorftreff.de
X-WR-CALDESC:Veranstaltungen für WehrenDorfTreff e.V.
REFRESH-INTERVAL;VALUE=DURATION:PT1H
X-Robots-Tag:noindex
X-PUBLISHED-TTL:PT1H
BEGIN:VTIMEZONE
TZID:Europe/Berlin
BEGIN:DAYLIGHT
TZOFFSETFROM:+0100
TZOFFSETTO:+0200
TZNAME:CEST
DTSTART:20250330T010000
END:DAYLIGHT
BEGIN:STANDARD
TZOFFSETFROM:+0200
TZOFFSETTO:+0100
TZNAME:CET
DTSTART:20251026T010000
END:STANDARD
BEGIN:DAYLIGHT
TZOFFSETFROM:+0100
TZOFFSETTO:+0200
TZNAME:CEST
DTSTART:20260329T010000
END:DAYLIGHT
BEGIN:STANDARD
TZOFFSETFROM:+0200
TZOFFSETTO:+0100
TZNAME:CET
DTSTART:20261025T010000
END:STANDARD
BEGIN:DAYLIGHT
TZOFFSETFROM:+0100
TZOFFSETTO:+0200
TZNAME:CEST
DTSTART:20270328T010000
END:DAYLIGHT
BEGIN:STANDARD
TZOFFSETFROM:+0200
TZOFFSETTO:+0100
TZNAME:CET
DTSTART:20271031T010000
END:STANDARD
END:VTIMEZONE
BEGIN:VEVENT
DTSTART;TZID=Europe/Berlin:20260514T110000
DTEND;TZID=Europe/Berlin:20260514T130000
DTSTAMP:20260423T175447
CREATED:20260224T065449Z
LAST-MODIFIED:20260224T065449Z
UID:3368-1778756400-1778763600@wehrendorftreff.de
SUMMARY:Open Air Gottesdienst und Aktionen für Kinder
DESCRIPTION:Die Evangelische Kirchengemeinde Vlotho veranstaltet am Himmelfahrtstag einen Gottesdienst auf dem Gelände rund um die Kreuzkirche für Groß und Klein.
URL:https://wehrendorftreff.de/event/open-air-gottesdienst-und-aktionen-fuer-kinder/
LOCATION:Kreuzkirche Wehrendorf\, Dorfstraße\, Vlotho\, 32602
END:VEVENT
END:VCALENDAR